BEGIN:VCALENDAR
VERSION:2.0
PRODID:-//MoscheeForum - ECPv6.15.20//NONSGML v1.0//EN
CALSCALE:GREGORIAN
METHOD:PUBLISH
X-WR-CALNAME:MoscheeForum
X-ORIGINAL-URL:https://moscheeforum.de
X-WR-CALDESC:Veranstaltungen für MoscheeForum
REFRESH-INTERVAL;VALUE=DURATION:PT1H
X-Robots-Tag:noindex
X-PUBLISHED-TTL:PT1H
BEGIN:VTIMEZONE
TZID:Europe/Berlin
BEGIN:DAYLIGHT
TZOFFSETFROM:+0100
TZOFFSETTO:+0200
TZNAME:CEST
DTSTART:20230326T010000
END:DAYLIGHT
BEGIN:STANDARD
TZOFFSETFROM:+0200
TZOFFSETTO:+0100
TZNAME:CET
DTSTART:20231029T010000
END:STANDARD
BEGIN:DAYLIGHT
TZOFFSETFROM:+0100
TZOFFSETTO:+0200
TZNAME:CEST
DTSTART:20240331T010000
END:DAYLIGHT
BEGIN:STANDARD
TZOFFSETFROM:+0200
TZOFFSETTO:+0100
TZNAME:CET
DTSTART:20241027T010000
END:STANDARD
BEGIN:DAYLIGHT
TZOFFSETFROM:+0100
TZOFFSETTO:+0200
TZNAME:CEST
DTSTART:20250330T010000
END:DAYLIGHT
BEGIN:STANDARD
TZOFFSETFROM:+0200
TZOFFSETTO:+0100
TZNAME:CET
DTSTART:20251026T010000
END:STANDARD
END:VTIMEZONE
BEGIN:VEVENT
DTSTART;TZID=Europe/Berlin:20240504T120000
DTEND;TZID=Europe/Berlin:20240607T180000
DTSTAMP:20260419T175552
CREATED:20240220T150927Z
LAST-MODIFIED:20240610T152642Z
UID:10000446-1714824000-1717783200@moscheeforum.de
SUMMARY:Ausstellung: Moderne arabische Kalligramme von Idriss Azougaye
DESCRIPTION:Ausstellung: Moderne arabische Kalligramme von Idriss Azougaye\nEntdecken Sie die faszinierende Fusion von Tradition und Moderne bei unserer kommenden Ausstellung in der Zentralmoschee Köln\, präsentiert von Idris Azougaye. Tauchen Sie ein in die Welt der modernen arabischen Kalligraphie\, während der Künstler seine Werke vorstellt\, die eine einzigartige Interpretation von Meisterwerken wie Van Goghs “Die Sternennacht” oder Hokusais “Die große Welle von Kanagawa” bieten – neu interpretiert durch die Kunst der Kalligraphie. \nBleiben Sie gespannt auf ein visuelles Erlebnis\, das die Grenzen der Tradition sprengt und die Schönheit der Kalligraphie in einem zeitgenössischen Kontext neu definiert. Von den eleganten Linien der Kalligraphie bis zur ikonischen Schönheit der klassischen Werke\, Idris Azougaye bringt eine neue Perspektive auf bekannte Kunstwerke in die Zentralmoschee Köln. \nDie Ausstellung findet vom 4. Mai bis zum 06. Juni statt. Wir laden Sie herzlich ein\, dieses inspirierende Ausstellung zu erleben und sich von der künstlerischen Brillanz von Idris Azougaye verzaubern zu lassen. Weitere Informationen zu den Öffnungszeiten entnehmen Sie bitte unserer Webseite. Wir freuen uns darauf\, Sie begrüßen zu dürfen! \n  \n  \n 
URL:https://moscheeforum.de/veranstaltung/ausstellung-moderne-arabische-kalligramme-idrislights/
LOCATION:Zentralmoschee Köln\, Venloer Str. 160\, Köln\, 50823
CATEGORIES:Ausstellungen,Kunst und Kultur
ATTACH;FMTTYPE=image/png:https://moscheeforum.de/wp-content/uploads/2024/02/Moderne-arabische-kalligramme-3.png
ORGANIZER;CN="MoscheeForum":MAILTO:info@moscheeforum.de
END:VEVENT
BEGIN:VEVENT
DTSTART;TZID=Europe/Berlin:20240321T173000
DTEND;TZID=Europe/Berlin:20240321T200000
DTSTAMP:20260419T175552
CREATED:20240228T164947Z
LAST-MODIFIED:20240307T161404Z
UID:10000448-1711042200-1711051200@moscheeforum.de
SUMMARY:Nachbarschafts-Iftar 2024
DESCRIPTION:Nachbarschafts-Iftar 2024\nEs ist uns eine besondere Freude\, Sie herzlich zu einem Nachbarschafts-Iftar am 21.03.2024 in die Zentralmoschee Köln einzuladen\, um das vierzigjährige Jubiläum der Zentralmoschee Köln und das fünfjährige Bestehen des MoscheeForums zu feiern. Ihre Anwesenheit bei diesem festlichen Anlass würde uns außerordentlich erfreuen. \nNähere Informationen zur Interessensbekundung: \nSie können Ihr Interesse zur Teilnahme am nachbarschaftlichen Iftar des MoscheeForum unter dem Link https://bit.ly/Anfrage_Iftar_MoscheeForum2024 bekunden. Bitte haben Sie dafür Verständnis\, dass wir aufgrund der begrenzten Kapazität diese Einladung auf unsere direkte Nachbarschaft beschränken. Daher ist ihre vorherige Anmeldung notwendig.\n\nSofern Sie berücksichtigt werden\, erhalten Sie zwischen dem 14.-16. März 2024 eine positive Bestätigung. Wenn Sie keine Rückmeldung erhalten\, bedauern wir sehr\, dass die maximale Raum-Kapazität überschritten wurde und wir leider nicht jeden Interessenten willkommen heißen können. Absagen werden wir aufgrund des hohen Aufkommens nicht versenden\, dafür bitten wir um Verständnis.\nWir behalten uns jedoch vor\, dieses Angebot bei entsprechender Nachfrage erneut anzubieten. In diesem Fall würden wir eine entsprechende Warteliste erstellen und Sie erneut kontaktieren.\n\nLink zur Interessensbekundung: https://bit.ly/Anfrage_Iftar_MoscheeForum2024
URL:https://moscheeforum.de/veranstaltung/nachbarschafts-iftar-2024/
LOCATION:Zentralmoschee Köln\, Venloer Str. 160\, Köln\, 50823
CATEGORIES:Gesellschaft
ATTACH;FMTTYPE=image/jpeg:https://moscheeforum.de/wp-content/uploads/2024/02/Nachbarschafts-Iftar-2024-Einladung-A3-scaled.webp
ORGANIZER;CN="MoscheeForum":MAILTO:info@moscheeforum.de
END:VEVENT
END:VCALENDAR