BEGIN:VCALENDAR
VERSION:2.0
PRODID:-//MoscheeForum - ECPv6.15.20//NONSGML v1.0//EN
CALSCALE:GREGORIAN
METHOD:PUBLISH
X-ORIGINAL-URL:https://moscheeforum.de
X-WR-CALDESC:Veranstaltungen für MoscheeForum
REFRESH-INTERVAL;VALUE=DURATION:PT1H
X-Robots-Tag:noindex
X-PUBLISHED-TTL:PT1H
BEGIN:VTIMEZONE
TZID:Europe/Berlin
BEGIN:DAYLIGHT
TZOFFSETFROM:+0100
TZOFFSETTO:+0200
TZNAME:CEST
DTSTART:20200329T010000
END:DAYLIGHT
BEGIN:STANDARD
TZOFFSETFROM:+0200
TZOFFSETTO:+0100
TZNAME:CET
DTSTART:20201025T010000
END:STANDARD
BEGIN:DAYLIGHT
TZOFFSETFROM:+0100
TZOFFSETTO:+0200
TZNAME:CEST
DTSTART:20210328T010000
END:DAYLIGHT
BEGIN:STANDARD
TZOFFSETFROM:+0200
TZOFFSETTO:+0100
TZNAME:CET
DTSTART:20211031T010000
END:STANDARD
BEGIN:DAYLIGHT
TZOFFSETFROM:+0100
TZOFFSETTO:+0200
TZNAME:CEST
DTSTART:20220327T010000
END:DAYLIGHT
BEGIN:STANDARD
TZOFFSETFROM:+0200
TZOFFSETTO:+0100
TZNAME:CET
DTSTART:20221030T010000
END:STANDARD
BEGIN:DAYLIGHT
TZOFFSETFROM:+0100
TZOFFSETTO:+0200
TZNAME:CEST
DTSTART:20230326T010000
END:DAYLIGHT
BEGIN:STANDARD
TZOFFSETFROM:+0200
TZOFFSETTO:+0100
TZNAME:CET
DTSTART:20231029T010000
END:STANDARD
END:VTIMEZONE
BEGIN:VEVENT
DTSTART;TZID=Europe/Berlin:20220317T170000
DTEND;TZID=Europe/Berlin:20220317T180000
DTSTAMP:20260426T042402
CREATED:20220314T171145Z
LAST-MODIFIED:20220404T103119Z
UID:10000290-1647536400-1647540000@moscheeforum.de
SUMMARY:Tee-Aabend - Vortragsreihe Islam - Die Nacht der Vergebung
DESCRIPTION:Das MoscheeForum lädt Sie zum nächsten Tee-Abend in 2022 zum Thema \,\,Die Nacht der Vergebung”\, vorgetragen von der Theologin Yasemin Rizky Ekinci\, herzlich ein. Die Veranstaltung wird online ausgetragen.\n\nIn der Vortragsreihe Islam mit “Einblick in die Religion des Islam” werden grundlegende Themen des Islam besprochen. Theologen geben in Einzelsitzungen jeweils kurze Einblicke über die sechs Säulen des Glaubensbekenntnisses\, die fünf Säulen des Islam und den besonderen Tagen im Islam. Im Anschluss finden dann Gesprächsrunden zu den Themen statt.\n\nDer Vortrag ist erreichbar unter: Vortragsreihe Islam Zoom \n\nOder erreichbar unter der Zoom Meeting-ID: 935 2692 4741\n\nKenncode: 914879
URL:https://moscheeforum.de/veranstaltung/tee-aabend-vortragsreihe-islam-die-nacht-der-vergebung/
LOCATION:Online
CATEGORIES:Religion,Teeabende,Vortragsreihe Islam
ATTACH;FMTTYPE=image/jpeg:https://moscheeforum.de/wp-content/uploads/2022/03/Die-Nacht-der-Vergebung-A3.jpg
ORGANIZER;CN="MoscheeForum":MAILTO:info@moscheeforum.de
END:VEVENT
BEGIN:VEVENT
DTSTART;TZID=Europe/Berlin:20220226T183000
DTEND;TZID=Europe/Berlin:20220226T192000
DTSTAMP:20260426T042402
CREATED:20220223T074834Z
LAST-MODIFIED:20220223T074834Z
UID:10000289-1645900200-1645903200@moscheeforum.de
SUMMARY:Tee-Aabend - Vortragsreihe Islam - Die Himmelsreise des Propheten
DESCRIPTION:Das MoscheeForum lädt Sie zum nächsten Tee-Abend in 2022 zum Thema \,\,Die Himmelreise des Propheten”\, vorgetragen vom Theologen Hasan Hüseyin Güneyli\, herzlich ein. Die Veranstaltung wird online ausgetragen. Hierfür bitten wir um eine Anmeldung unter: https://bit.ly/MoscheeForum_TeeAbend_Februar Sie erhalten im Anschluss die Zugangsdaten per E-Mail.\n\nIn der Vortragsreihe Islam mit “Einblick in die Religion des Islam” werden grundlegende Themen des Islam besprochen. Theologen geben in Einzelsitzungen jeweils kurze Einblicke über die sechs Säulen des Glaubensbekenntnisses\, die fünf Säulen des Islam und den besonderen Tagen im Islam. Im Anschluss finden dann Gesprächsrunden zu den Themen statt.
URL:https://moscheeforum.de/veranstaltung/tee-aabend-vortragsreihe-islam-die-himmelsreise-des-propheten/
LOCATION:Online
CATEGORIES:Religion,Teeabende,Vortragsreihe Islam
ATTACH;FMTTYPE=image/jpeg:https://moscheeforum.de/wp-content/uploads/2022/02/210222_Die-Himmelsreise_Vortragsreihe-Islam_2-scaled.jpg
ORGANIZER;CN="MoscheeForum":MAILTO:info@moscheeforum.de
END:VEVENT
BEGIN:VEVENT
DTSTART;TZID=Europe/Berlin:20211201T180000
DTEND;TZID=Europe/Berlin:20211201T193000
DTSTAMP:20260426T042402
CREATED:20211118T082900Z
LAST-MODIFIED:20211118T082900Z
UID:10000280-1638381600-1638387000@moscheeforum.de
SUMMARY:Vortragsreihe Islamische Moscheearchitektur
DESCRIPTION:In der Vortragsreihe Islamische Moscheearchitektur führt Herr Prof. Dr. Onur Şimşek die Zuhörer zum Thema “Eine Einführung in die islamische Kunstgeschichte & Kunsttheorie” hin.\n\n\nDer Vortrag findet in deutscher Sprache statt.\n\n\n\n\nDie Veranstaltung findet online statt unter: https://bit.ly/3qOMa7Q
URL:https://moscheeforum.de/veranstaltung/vortragsreihe-islamische-moscheearchitektur/
LOCATION:Online
CATEGORIES:Kunst und Kultur,Veranstaltungen
ATTACH;FMTTYPE=image/png:https://moscheeforum.de/wp-content/uploads/2021/11/GESELL1.png
ORGANIZER;CN="MoscheeForum":MAILTO:info@moscheeforum.de
END:VEVENT
BEGIN:VEVENT
DTSTART;VALUE=DATE:20210707
DTEND;VALUE=DATE:20210809
DTSTAMP:20260426T042402
CREATED:20210716T160743Z
LAST-MODIFIED:20210728T155923Z
UID:10000276-1625616000-1628467199@moscheeforum.de
SUMMARY:Einblick in die islamische Künste - Kalligraphie\, Illumination\, Illustration und Kachelkunst
DESCRIPTION:Das MoscheeForum lädt vom 08.07.2021-08.08.2021 zur Online-Ausstellung der islamischen Künste ein. Es erwarten Sie vier verschiedene Künste in den Bereichen der arabischen Kalligraphie\, Buchmalerei\, Illustration und Keramik.\nDie Ausstellung ist zu erreichen über den QR-Code oder unter: Einblick in die islamischen Künste\n\n \nZusätzlich zur Ausstellung wurden die Künstlerinnen in einem Video interviewt. Dabei geben sie auch einen Einblick in die einzelnen Arbeiten aus der Ausstellung.\n1. Kalligraphie – Künstlerin: Müşerref Özdemir\n2. Illumination-  Künstlerin:  Aya Deniz\n3. Illustration- Künstlerin: Hatice Kübra Uysal\n4. Keramik – Künstlerin: Merve Kırıştı\n\n\n\n\nWir wünschen gute Unterhaltung. Genießen Sie die Vielfalt der islamischen Künste.\n\n\n\n \n\nDas Video ist zu erreichen unter: Video zur Ausstellung
URL:https://moscheeforum.de/veranstaltung/einblick-in-die-islamische-kuenste-kalligraphie-illumination-illustration-und-kachelkunst/
LOCATION:Online
CATEGORIES:Ausstellungen
ORGANIZER;CN="MoscheeForum":MAILTO:info@moscheeforum.de
END:VEVENT
BEGIN:VEVENT
DTSTART;TZID=Europe/Berlin:20210324T183000
DTEND;TZID=Europe/Berlin:20210324T200000
DTSTAMP:20260426T042402
CREATED:20200823T164632Z
LAST-MODIFIED:20210317T152144Z
UID:10000271-1616610600-1616616000@moscheeforum.de
SUMMARY:Online Konferenz: Angriff auf Gotteshäuser = Angriff auf unsere demokratischen Werte & gesellschaftlichen Pluralismus
DESCRIPTION:[vc_section full_width=”stretch_row” content_placement=”middle” css=”.vc_custom_1597652379403{background-image: url(https://moscheeforum.de/wp-content/uploads/2020/03/head-pic_light_ausstellungen_title_20191108_131921.png?id=1252) !important;background-position: top center !important;background-repeat: no-repeat !important;background-size: cover !important;}” el_class=”title-header black-header”][vc_row content_placement=”middle”][vc_column]Online Konferenz: Angriff auf Gotteshäuser = Angriff auf unsere demokratische Werte & gesellschaftlichen Pluralismus[/vc_column][/vc_row][/vc_section][vc_row el_id=”content-area”][vc_column][vc_column_text] \nAnlässlich der internationalen Woche gegen Rassismus lädt das MoscheeForum zu einer Online Konferenz zum Thema “Angriff auf Gotteshäuser = Angriff auf unsere demokratischen Werte und gesellschaftlichen Pluralismus” ein.  \nFür eine Teilnahme ist eine Anmeldung bis zum 23.03.2021 unter der E-Mail Anschrift info@moscheeforum.de zu beantragen. Sie erhalten dann einen Zugangslink\, mit dem Sie ab 18.00 Uhr Zugang haben. \nDas Format findet jährlich statt. \n \n  \n\nAnlässlich der internationalen Wochen gegen Rassismus hat das MoscheeForum zusammen mit der DITIB Antirassismus- und Antidiskriminierungsstelle einige Fotos von Moscheeübergriffen zwischen 2016-2020 zusammengestellt.\n\n\n#SolidaritätGrenzenlos​\n#MoscheeForum​\n#AntimuslimischerRassismus\n\n\nhttps://moscheeforum.de/wp-content/uploads/2020/08/Rassismuswoche-Moscheeuebergriffe-Kurzfilm_Whattsapp.mp4\n\n[/vc_column_text][/vc_column][/vc_row]
URL:https://moscheeforum.de/veranstaltung/podiumsgespraech-woche-gegen-rassismus/
LOCATION:Online
CATEGORIES:Gesellschaft,Podiumsgespräche,Veranstaltungen
ORGANIZER;CN="MoscheeForum":MAILTO:info@moscheeforum.de
END:VEVENT
END:VCALENDAR