BEGIN:VCALENDAR
VERSION:2.0
PRODID:-//MoscheeForum - ECPv6.15.20//NONSGML v1.0//EN
CALSCALE:GREGORIAN
METHOD:PUBLISH
X-WR-CALNAME:MoscheeForum
X-ORIGINAL-URL:https://moscheeforum.de
X-WR-CALDESC:Veranstaltungen für MoscheeForum
REFRESH-INTERVAL;VALUE=DURATION:PT1H
X-Robots-Tag:noindex
X-PUBLISHED-TTL:PT1H
BEGIN:VTIMEZONE
TZID:Europe/Berlin
BEGIN:DAYLIGHT
TZOFFSETFROM:+0100
TZOFFSETTO:+0200
TZNAME:CEST
DTSTART:20250330T010000
END:DAYLIGHT
BEGIN:STANDARD
TZOFFSETFROM:+0200
TZOFFSETTO:+0100
TZNAME:CET
DTSTART:20251026T010000
END:STANDARD
BEGIN:DAYLIGHT
TZOFFSETFROM:+0100
TZOFFSETTO:+0200
TZNAME:CEST
DTSTART:20260329T010000
END:DAYLIGHT
BEGIN:STANDARD
TZOFFSETFROM:+0200
TZOFFSETTO:+0100
TZNAME:CET
DTSTART:20261025T010000
END:STANDARD
BEGIN:DAYLIGHT
TZOFFSETFROM:+0100
TZOFFSETTO:+0200
TZNAME:CEST
DTSTART:20270328T010000
END:DAYLIGHT
BEGIN:STANDARD
TZOFFSETFROM:+0200
TZOFFSETTO:+0100
TZNAME:CET
DTSTART:20271031T010000
END:STANDARD
END:VTIMEZONE
BEGIN:VEVENT
DTSTART;TZID=Europe/Berlin:20260519T180000
DTEND;TZID=Europe/Berlin:20260519T210000
DTSTAMP:20260421T115343
CREATED:20260327T093002Z
LAST-MODIFIED:20260330T120301Z
UID:10000845-1779213600-1779224400@moscheeforum.de
SUMMARY:Ehrenfelder Gesprächsreihe Gesellschaft · Gemeinsam für die Würde des Menschen in Köln
DESCRIPTION:Ehrenfelder Gesprächsreihe Gesellschaft\nGemeinsam für die Würde des Menschen in Köln\n77 Jahre Grundgesetz · Kölner Gesprächsabend in der Zentralmoschee\nAnlässlich des Jahrestages des Grundgesetzes lädt das Moscheeforum Köln zu einem öffentlichen Gesprächsabend in die Zentralmoschee ein. Die Veranstaltung ist Teil der Ehrenfelder Gesprächsreihe – Gesellschaft\, einer neuen Veranstaltungsreihe\, die sich mit zentralen Fragen des Zusammenlebens in einer pluralen Gesellschaft beschäftigt. \nIm Mittelpunkt des Auftaktabends steht ein Grundsatz unseres demokratischen Gemeinwesens: „Die Würde des Menschen ist unantastbar.“ \nGemeinsam mit Vertreterinnen und Vertretern aus Stadtpolitik\, Zivilgesellschaft\, historisch-politischer Bildung und interreligiösem Dialog möchten wir darüber sprechen\, welche Bedeutung dieser Verfassungsgrundsatz heute für das Zusammenleben in unserer Stadt hat. \n\n\n\n\n\nWas bedeutet Menschenwürde konkret im Alltag einer vielfältigen Stadt wie Köln?\nWo wird sie gelebt – und wo steht sie unter Druck?\nUnd welche gemeinsame Verantwortung ergibt sich daraus für Politik\, Religion\, Zivilgesellschaft und jede einzelne Bürgerin und jeden einzelnen Bürger?\n\n\n\n\n\nDie Ehrenfelder Gesprächsreihe – Gesellschaft versteht sich als offenes Forum für den Austausch unterschiedlicher Perspektiven aus Wissenschaft\, Religion\, Politik und gesellschaftlicher Praxis. Ziel der Reihe ist es\, zentrale gesellschaftliche Fragen an der Schnittstelle von Religion\, Demokratie und gesellschaftlichem Zusammenhalt gemeinsam zu reflektieren und Raum für einen respektvollen und konstruktiven Diskurs zu schaffen. Dabei sollen unterschiedliche weltanschauliche\, religiöse und wissenschaftliche Perspektiven bewusst zusammengeführt werden\, um komplexe gesellschaftliche Entwicklungen besser zu verstehen. \nMit der Veranstaltungsreihe möchte das Moscheeforum die Zentralmoschee Köln bewusst als offenen Ort der Begegnung\, des Nachdenkens und des gesellschaftlichen Austauschs sichtbar machen. Menschen aus unterschiedlichen Bereichen der Kölner Stadtgesellschaft sind eingeladen\, miteinander ins Gespräch zu kommen und gemeinsam über die Grundlagen unseres Zusammenlebens nachzudenken. \nDer Abend beginnt mit kurzen Impulsbeiträgen der eingeladenen Gäste. Anschließend folgt eine moderierte Podiumsdiskussion mit Beteiligung des Publikums. Im Anschluss besteht bei einem offenen Ausklang die Möglichkeit zum persönlichen Austausch. \nAls Gesprächsgäste sind angefragt:\n\n\n\nVertreterin der Stadt Köln\nVertreterin der Zivilgesellschaft (Öffentlichkeit gegen Gewalt e.V.)\nVertreter der historisch-politischen Bildung\n\n\n\nVeranstaltungsdetails\nDatum: Dienstag\, 19. Mai 2026Uhrzeit: 18:00–21:00 Uhr (Einlass ab 18:00 Uhr)Ort: Zentralmoschee Köln\, AusstellungssaalVenloer Straße 160\, 50823 Köln \nEintritt: frei \nAblauf (Auszug)\n\n\n\n\n\nBegrüßung und Eröffnungsimpuls\nGesprächsrunde mit geladenen Gästen\nOffenes Publikumsgespräch\nAusklang und Möglichkeit zur Begegnung\nAnschließend: optionale Moscheeführung\n\n\n\n\n\nHinweis\nDie Veranstaltung richtet sich ausdrücklich an die breite Kölner Öffentlichkeit. Die Veranstaltung ist öffentlich. Der Eintritt ist frei.
URL:https://moscheeforum.de/veranstaltung/im-dialog-fuer-die-wuerde-des-menschen-in-koeln-77-jahre-grundgesetz-%c2%b7-koelner-gespraechsabend-an-der-zentralmoschee/
LOCATION:MoscheeForum – Ausstellungssaal\, Venloer Str. 160\, Köln\, NRW\, 50823\, Deutschland
CATEGORIES:Gesellschaft,Gesprächskreise
ORGANIZER;CN="MoscheeForum":MAILTO:info@moscheeforum.de
END:VEVENT
BEGIN:VEVENT
DTSTART;TZID=Europe/Berlin:20261003T090000
DTEND;TZID=Europe/Berlin:20261003T190000
DTSTAMP:20260421T115343
CREATED:20260109T143233Z
LAST-MODIFIED:20260109T143233Z
UID:10000571-1791018000-1791054000@moscheeforum.de
SUMMARY:Tag der offenen Moschee 2026 -TOM
DESCRIPTION:Am Samstag\, den 3. Oktober 2026\, öffnet die Kölner Zentralmoschee ihre Türen zum Tag der offenen Moschee (TOM). Der TOM steht bundesweit für Gastfreundschaft\, Dialog und Begegnung und lädt alle Interessierten ein\, die Moschee als Ort des Glaubens\, der Kultur und des Miteinanders kennenzulernen. Das Motto/Thema für 2026 wird zu einem späteren Zeitpunkt bekanntgegeben. \nDer Tag folgt einem bewährten Rahmen: Am Vormittag ist eine Auftaktveranstaltung im Gebetssaal vorgesehen – mit Begrüßung\, Koranrezitation und Grußworten. Über den gesamten Tag hinweg werden mehrere Moscheeführungen angeboten. Sie geben Einblicke in die Architektur\, die Symbolik und die religiöse Praxis und bieten Raum für Fragen und Austausch. \nBegleitend dazu wird das MoscheeForum – wie jedes Jahr – ein Rahmenprogramm entlang des jeweiligen TOM-Themas anbieten. Die konkreten Inhalte und Formate werden nach Festlegung des Mottos veröffentlicht. \nEin weiterer Anlaufpunkt ist das DITIB-Center mit gastronomischen Angeboten sowie der Buchhandlung. Hier können Besucherinnen und Besucher verweilen\, ins Gespräch kommen und sich weiter informieren. \nDer Tag der offenen Moschee ist eine Einladung an alle Kölnerinnen und Kölner\, miteinander in Kontakt zu treten\, Fragen zu stellen und Vorurteile abzubauen – offen\, respektvoll und auf Augenhöhe. \nOrt: Kölner Zentralmoschee\, Venloer Straße 160\, 50823 Köln-EhrenfeldZeit: 09:00–18:00 UhrHinweis: Detaillierte Programmpunkte und Uhrzeiten werden veröffentlicht\, sobald das Motto und die finale Planung für 2026 feststehen.
URL:https://moscheeforum.de/veranstaltung/tag-der-offenen-moschee-2026-tom/
LOCATION:MoscheeForum – Ausstellungssaal\, Venloer Str. 160\, Köln\, NRW\, 50823\, Deutschland
CATEGORIES:Gesellschaft
ORGANIZER;CN="MoscheeForum":MAILTO:info@moscheeforum.de
END:VEVENT
END:VCALENDAR