BEGIN:VCALENDAR
VERSION:2.0
PRODID:-//MoscheeForum - ECPv6.15.20//NONSGML v1.0//EN
CALSCALE:GREGORIAN
METHOD:PUBLISH
X-ORIGINAL-URL:https://moscheeforum.de
X-WR-CALDESC:Veranstaltungen für MoscheeForum
REFRESH-INTERVAL;VALUE=DURATION:PT1H
X-Robots-Tag:noindex
X-PUBLISHED-TTL:PT1H
BEGIN:VTIMEZONE
TZID:Europe/Berlin
BEGIN:DAYLIGHT
TZOFFSETFROM:+0100
TZOFFSETTO:+0200
TZNAME:CEST
DTSTART:20250330T010000
END:DAYLIGHT
BEGIN:STANDARD
TZOFFSETFROM:+0200
TZOFFSETTO:+0100
TZNAME:CET
DTSTART:20251026T010000
END:STANDARD
BEGIN:DAYLIGHT
TZOFFSETFROM:+0100
TZOFFSETTO:+0200
TZNAME:CEST
DTSTART:20260329T010000
END:DAYLIGHT
BEGIN:STANDARD
TZOFFSETFROM:+0200
TZOFFSETTO:+0100
TZNAME:CET
DTSTART:20261025T010000
END:STANDARD
BEGIN:DAYLIGHT
TZOFFSETFROM:+0100
TZOFFSETTO:+0200
TZNAME:CEST
DTSTART:20270328T010000
END:DAYLIGHT
BEGIN:STANDARD
TZOFFSETFROM:+0200
TZOFFSETTO:+0100
TZNAME:CET
DTSTART:20271031T010000
END:STANDARD
END:VTIMEZONE
BEGIN:VEVENT
DTSTART;TZID=Europe/Berlin:20260116T100000
DTEND;TZID=Europe/Berlin:20260216T180000
DTSTAMP:20260425T132343
CREATED:20260108T122958Z
LAST-MODIFIED:20260108T122958Z
UID:10000570-1768557600-1771264800@moscheeforum.de
SUMMARY:PASSAGEN 2026: „Wenn Verse regnen“
DESCRIPTION:Wenn Verse regnen – Installation in der Zentralmoschee Köln (PASSAGEN 2026) \nDie Zentralmoschee Köln wird im Januar zu einem stillen Erfahrungsraum: Die Installation „Wenn Verse regnen“ lädt zu einem haptischen Interieur-Erlebnis ein\, in dem Stimme\, Licht und Stoff wie fallende Tropfen zusammenwirken. Qur’anverse über Regen erscheinen als Textprojektionen im Raum – ein poetisches „Herabrieseln“\, das nicht nur sichtbar wird\, sondern als Gabe\, Trost und Liebe erfahrbar macht\, was Offenbarung im Inneren bedeuten kann. \nWer verweilt und liest\, erlebt die Installation als dialogisches Geschehen: An ausgewählten Stellen reagiert der Raum auf Präsenz – Verse werden nicht nur betrachtet\, sondern können im richtigen Moment auch hörbar werden. So verwandelt sich Schrift in Licht\, Licht in Wasser und Wasser in einen leisen Atem\, der den Raum trägt. \nInhaltlich nimmt die Installation zwei Qur’an-Motive auf\, die Köln als offene\, religiös vielfältige Stadtgesellschaft in besonderer Weise berühren: Licht als Orientierung und Sinnbild göttlicher Führung (Sure An-Nur 24:35) sowie Regen/Wasser als gesegnete Gabe\, die belebt und wachsen lässt (Sure Qaf 50:9–10). Beide Motive öffnen einen Zugang\, der religiöse Sprache nicht erklärt\, sondern als Erfahrung anbietet: kontemplativ\, sinnlich und zugleich zugänglich. \nZeitraum: 16.01-16.02.2026\, täglich 10–19 UhrTeeabend: 16. & 17.01.2026\, jeweils 17 UhrOrt: Ausstellungssaal MoscheeForum\, Venloer Str. 160\, 50823 Köln \nQur’an-Bezüge: An-Nur (24:35) „Licht“ / Qaf (50:9–10) „gesegnetes Wasser“. \nDOWNLOAD PASSAGEN 2026 BROSCHÜRE: Passagen2026_Layout_web 
URL:https://moscheeforum.de/veranstaltung/passagen-2026-wenn-verse-regnen/
LOCATION:MoscheeForum – Ausstellungssaal\, Venloer Str. 160\, Köln\, NRW\, 50823\, Deutschland
CATEGORIES:Ausstellungen,Kunst und Kultur
ATTACH;FMTTYPE=image/png:https://moscheeforum.de/wp-content/uploads/2026/01/Passagen2026_Layout_web.pdf-1.png
ORGANIZER;CN="MoscheeForum":MAILTO:info@moscheeforum.de
END:VEVENT
END:VCALENDAR