BEGIN:VCALENDAR
VERSION:2.0
PRODID:-//MoscheeForum - ECPv6.15.20//NONSGML v1.0//EN
CALSCALE:GREGORIAN
METHOD:PUBLISH
X-WR-CALNAME:MoscheeForum
X-ORIGINAL-URL:https://moscheeforum.de
X-WR-CALDESC:Veranstaltungen für MoscheeForum
REFRESH-INTERVAL;VALUE=DURATION:PT1H
X-Robots-Tag:noindex
X-PUBLISHED-TTL:PT1H
BEGIN:VTIMEZONE
TZID:Europe/Berlin
BEGIN:DAYLIGHT
TZOFFSETFROM:+0100
TZOFFSETTO:+0200
TZNAME:CEST
DTSTART:20230326T010000
END:DAYLIGHT
BEGIN:STANDARD
TZOFFSETFROM:+0200
TZOFFSETTO:+0100
TZNAME:CET
DTSTART:20231029T010000
END:STANDARD
BEGIN:DAYLIGHT
TZOFFSETFROM:+0100
TZOFFSETTO:+0200
TZNAME:CEST
DTSTART:20240331T010000
END:DAYLIGHT
BEGIN:STANDARD
TZOFFSETFROM:+0200
TZOFFSETTO:+0100
TZNAME:CET
DTSTART:20241027T010000
END:STANDARD
BEGIN:DAYLIGHT
TZOFFSETFROM:+0100
TZOFFSETTO:+0200
TZNAME:CEST
DTSTART:20250330T010000
END:DAYLIGHT
BEGIN:STANDARD
TZOFFSETFROM:+0200
TZOFFSETTO:+0100
TZNAME:CET
DTSTART:20251026T010000
END:STANDARD
END:VTIMEZONE
BEGIN:VEVENT
DTSTART;TZID=Europe/Berlin:20240921T180000
DTEND;TZID=Europe/Berlin:20240921T200000
DTSTAMP:20260425T210939
CREATED:20240912T130305Z
LAST-MODIFIED:20240912T130305Z
UID:10000463-1726941600-1726948800@moscheeforum.de
SUMMARY:Gebet der Religionen
DESCRIPTION:Gebet der Religionen\nJedes Jahr zum Weltfriedenstag am 21. September findet das Gebet der Religionen statt. Alle Religionsgemeinschaften und Organisationen des Rates der Religionen sowie interessierte Kölner*innen treffen sich unabhängig ihrer Religionszugehörigkeit in einer Kirche\, einer Moschee\, einer Synagoge\, einem Zentrum oder einem Versammlungsraum eines der Mitglieder\, um gemeinsam zu beten\, sich auszutauschen und sich kennenzulernen. \n2024 lädt der Kölner Rat der Religionen zum Gebet der Religionen in die Zentralmoschee Köln ein. \n  \nRat der Religionen\nDer Kölner Rat der Religionen ist ein freiwilliger Zusammenschluss von Religionsgemeinschaften und Organisationen\, die sich für die Förderung des interreligiösen Dialogs und das friedliche\, gleichberechtigte Miteinander aller Kölner*innen einsetzen und jede Form von Diskriminierung\, Terror und Gewalt ablehnen. \nGegenseitige Achtung\, Akzeptanz und Toleranz sind ebenso Grundlage des gemeinsamen Handelns wie die Achtung der Menschenrechte\, die Unverletzlichkeit der Würde des Menschen und die Achtung des religiösen Bekenntnisses des jeweils Anderen. Dazu gehört die Distanzierung von Antisemitismus und jeglicher Form von Rassismus. \nDer Rat der Religionen unterstützt den Aufbau verlässlicher Kommunikations- und Kooperationsstrukturen zwischen den in Köln vertretenen Religionsgemeinschaften. Die Bedeutung von Religion als integrierendes Element steht dabei im Mittelpunkt. \nAlle im Rat der Religionen vertretenen Religionsgemeinschaften verpflichten sich in diesem Sinne\, offen für den interreligiösen Dialog zum Wohl der Stadt und ihrer Bürger*innen zu sein und vertrauensvolle Begegnung zu ermöglichen. \n(Quelle: https://www.stadt-koeln.de/artikel/62000/index.html) \n 
URL:https://moscheeforum.de/veranstaltung/gebet-der-religionen/
LOCATION:DITIB-Zentralmoschee Köln\, Venloer Str. 160\, Köln\, 50823\, Deutschland
CATEGORIES:Gesellschaft,Veranstaltungen
ATTACH;FMTTYPE=image/png:https://moscheeforum.de/wp-content/uploads/2024/09/Einladung.png
ORGANIZER;CN="MoscheeForum":MAILTO:info@moscheeforum.de
END:VEVENT
END:VCALENDAR