BEGIN:VCALENDAR
VERSION:2.0
PRODID:-//MoscheeForum - ECPv6.15.20//NONSGML v1.0//EN
CALSCALE:GREGORIAN
METHOD:PUBLISH
X-WR-CALNAME:MoscheeForum
X-ORIGINAL-URL:https://moscheeforum.de
X-WR-CALDESC:Veranstaltungen für MoscheeForum
REFRESH-INTERVAL;VALUE=DURATION:PT1H
X-Robots-Tag:noindex
X-PUBLISHED-TTL:PT1H
BEGIN:VTIMEZONE
TZID:Europe/Berlin
BEGIN:DAYLIGHT
TZOFFSETFROM:+0100
TZOFFSETTO:+0200
TZNAME:CEST
DTSTART:20200329T010000
END:DAYLIGHT
BEGIN:STANDARD
TZOFFSETFROM:+0200
TZOFFSETTO:+0100
TZNAME:CET
DTSTART:20201025T010000
END:STANDARD
BEGIN:DAYLIGHT
TZOFFSETFROM:+0100
TZOFFSETTO:+0200
TZNAME:CEST
DTSTART:20210328T010000
END:DAYLIGHT
BEGIN:STANDARD
TZOFFSETFROM:+0200
TZOFFSETTO:+0100
TZNAME:CET
DTSTART:20211031T010000
END:STANDARD
BEGIN:DAYLIGHT
TZOFFSETFROM:+0100
TZOFFSETTO:+0200
TZNAME:CEST
DTSTART:20220327T010000
END:DAYLIGHT
BEGIN:STANDARD
TZOFFSETFROM:+0200
TZOFFSETTO:+0100
TZNAME:CET
DTSTART:20221030T010000
END:STANDARD
END:VTIMEZONE
BEGIN:VEVENT
DTSTART;TZID=Europe/Berlin:20211218T130000
DTEND;TZID=Europe/Berlin:20211218T183000
DTSTAMP:20260426T042923
CREATED:20211210T135548Z
LAST-MODIFIED:20211210T135548Z
UID:10000282-1639832400-1639852200@moscheeforum.de
SUMMARY:Barrierefreie Moscheeführung
DESCRIPTION:Anlässlich des Internationalen Tages der Menschen mit Behinderung lädt das MoscheeForum zusammen mit dem III e.V. Sie am 18.12.2021 zur barrierefreien Moscheeführung in die Kölner Zentralmoschee ein.Es können Gehörlose\, Schwerhörige sowie Rollstuhlfahrer*innen problemlos teilnehmen. Denn begleitet werden die Führungen von Gebärdensprachdolmetscher*innen\, die die Führungen in der Deutschen Gebärdensprache vermitteln. \nDer Eintritt erfolgt unter den Corona-Schutzmaßnahmen\, so dass eine Maske getragen\, der Mindestabstand gewahrt und die 2G-Regel eingehalten werden muss. Die 2G-Regel bedeutet\, dass nur Geimpfte und Genesene Zutritt in die Moschee haben. \nUm jeden eine Möglichkeit zu bieten\, gibt es drei Führungen. \n\nFührung: 13.00-14.15 Uhr\nFührung: 15.00-16.15 Uhr\nFührung: 16.45-17.55 Uhr.\n\nEs wird um Anmeldung per E-Mail unter Angabe des Vor- und Nachnamen jeder teilnehmenden Person und der Wunschzeit der Führung gebeten. \nWir freuen uns auf Ihren Besuch! \nBleiben Sie gesund!
URL:https://moscheeforum.de/veranstaltung/barrierefreie-moscheefuehrung/
LOCATION:DITIB-Zentralmoschee Köln\, Venloer Str. 160\, Köln\, 50823\, Deutschland
CATEGORIES:Gesellschaft
ATTACH;FMTTYPE=image/png:https://moscheeforum.de/wp-content/uploads/2021/12/Barrierefreie-Moscheefuehrung-2021.png
ORGANIZER;CN="MoscheeForum":MAILTO:info@moscheeforum.de
END:VEVENT
END:VCALENDAR