BEGIN:VCALENDAR
VERSION:2.0
PRODID:-//MoscheeForum - ECPv6.15.20//NONSGML v1.0//EN
CALSCALE:GREGORIAN
METHOD:PUBLISH
X-ORIGINAL-URL:https://moscheeforum.de
X-WR-CALDESC:Veranstaltungen für MoscheeForum
REFRESH-INTERVAL;VALUE=DURATION:PT1H
X-Robots-Tag:noindex
X-PUBLISHED-TTL:PT1H
BEGIN:VTIMEZONE
TZID:Europe/Berlin
BEGIN:DAYLIGHT
TZOFFSETFROM:+0100
TZOFFSETTO:+0200
TZNAME:CEST
DTSTART:20210328T010000
END:DAYLIGHT
BEGIN:STANDARD
TZOFFSETFROM:+0200
TZOFFSETTO:+0100
TZNAME:CET
DTSTART:20211031T010000
END:STANDARD
BEGIN:DAYLIGHT
TZOFFSETFROM:+0100
TZOFFSETTO:+0200
TZNAME:CEST
DTSTART:20220327T010000
END:DAYLIGHT
BEGIN:STANDARD
TZOFFSETFROM:+0200
TZOFFSETTO:+0100
TZNAME:CET
DTSTART:20221030T010000
END:STANDARD
BEGIN:DAYLIGHT
TZOFFSETFROM:+0100
TZOFFSETTO:+0200
TZNAME:CEST
DTSTART:20230326T010000
END:DAYLIGHT
BEGIN:STANDARD
TZOFFSETFROM:+0200
TZOFFSETTO:+0100
TZNAME:CET
DTSTART:20231029T010000
END:STANDARD
END:VTIMEZONE
BEGIN:VEVENT
DTSTART;TZID=Europe/Berlin:20220217T160000
DTEND;TZID=Europe/Berlin:20220217T183000
DTSTAMP:20260426T042523
CREATED:20220207T100631Z
LAST-MODIFIED:20220216T151632Z
UID:10000288-1645113600-1645122600@moscheeforum.de
SUMMARY:Zwei Jahre nach dem Terror in Hanau - Wir sprechen mit betroffenen Familien und Hinterbliebenen
DESCRIPTION:Zwei Jahre nach dem Terror in Hanau – Wir sprechen mit betroffenen Familien und Hinterbliebenen\nDer Terroranschlag in Hanau hat ein Umdenken in Gesellschaft und Politik angestoßen und den Blick auf rechte Gewalt und Islamfeindlichkeit fokussiert. Gleichwohl brauchen wir eine nachhaltige Debatte und in gesellschaftliches Bewußtsein\, das nicht tagesaktuell auf solche schrecklichen menschlichen Tragödien reagiert\, sondern präventiv eine gesellschaftliche Atmosphäre der gegenseitigen Akzeptanz und Anerkennung des jeweils anderen zur Normalität werden lässt. Vor diesem Hintergrund ist das Gedenken an die Hinterbliebenen ein wichtiger Aspekt. \nAm 17.02.2022 veranstaltet das MoscheeForum zusammen mit der DITIB-Antidiskriminierungsstelle\, dem DITIB-Bundesverband\, dem DITIB-Bundesjugendverband und dem Landesjugendverband Hessen eine Gedenkveranstaltung an der Zentralmoschee Köln. Zu Gast sind Herr Armin KURTOVIC und Herr Çetin GÜLTEKIN\, Familienangehörige und Hinterbliebene der Opfer von Hanau. \n  \n  \nDie Veranstaltung wird hybrid stattfinden. Aufgrund der hohen Nachfrage und der Corona-Situation ist eine Präsenzteilnahme leider nicht mehr möglich. Gerne sind Sie eingeladen\, über den YouTube Kanal des MoscheeForum unter folgendem Link live teilzunehmen: https://bit.ly/MoscheeForum_Gedenkveranstaltung_Hanau2022 \n\n\n\n \n  \n 
URL:https://moscheeforum.de/veranstaltung/zwei-jahre-nach-dem-terror-in-hanau-wir-sprechen-mit-betroffenen-familien-und-hinterbliebenen/
LOCATION:DITIB-Zentralmoschee Köln\, Venloer Str. 160\, Köln\, 50823\, Deutschland
CATEGORIES:Gesellschaft,Veranstaltungen
ATTACH;FMTTYPE=image/png:https://moscheeforum.de/wp-content/uploads/2022/02/3.png
ORGANIZER;CN="MoscheeForum":MAILTO:info@moscheeforum.de
END:VEVENT
END:VCALENDAR